BEGIN:VCALENDAR
VERSION:2.0
PRODID:-//OCCRC Events | Évènements CRCOC - ECPv6.15.18//NONSGML v1.0//EN
CALSCALE:GREGORIAN
METHOD:PUBLISH
X-WR-CALNAME:OCCRC Events | Évènements CRCOC
X-ORIGINAL-URL:https://events-evenements.crcoc.ca
X-WR-CALDESC:Events for OCCRC Events | Évènements CRCOC
REFRESH-INTERVAL;VALUE=DURATION:PT1H
X-Robots-Tag:noindex
X-PUBLISHED-TTL:PT1H
BEGIN:VTIMEZONE
TZID:America/Toronto
BEGIN:DAYLIGHT
TZOFFSETFROM:-0500
TZOFFSETTO:-0400
TZNAME:EDT
DTSTART:20210314T070000
END:DAYLIGHT
BEGIN:STANDARD
TZOFFSETFROM:-0400
TZOFFSETTO:-0500
TZNAME:EST
DTSTART:20211107T060000
END:STANDARD
BEGIN:DAYLIGHT
TZOFFSETFROM:-0500
TZOFFSETTO:-0400
TZNAME:EDT
DTSTART:20220313T070000
END:DAYLIGHT
BEGIN:STANDARD
TZOFFSETFROM:-0400
TZOFFSETTO:-0500
TZNAME:EST
DTSTART:20221106T060000
END:STANDARD
BEGIN:DAYLIGHT
TZOFFSETFROM:-0500
TZOFFSETTO:-0400
TZNAME:EDT
DTSTART:20230312T070000
END:DAYLIGHT
BEGIN:STANDARD
TZOFFSETFROM:-0400
TZOFFSETTO:-0500
TZNAME:EST
DTSTART:20231105T060000
END:STANDARD
END:VTIMEZONE
BEGIN:VEVENT
DTSTART;TZID=America/Toronto:20220111T100000
DTEND;TZID=America/Toronto:20220111T103000
DTSTAMP:20260422T164813
CREATED:20211228T205809Z
LAST-MODIFIED:20211228T210032Z
UID:9956-1641895200-1641897000@events-evenements.crcoc.ca
SUMMARY:Virtual interactive Circle time for Preschoolers! (2-6 yrs.)
DESCRIPTION:Come sing\, play and have fun during our virtual circle time! The songs\, rhymes and activities will be geared for children ages 2 to 6 years of age! \n\n\n\n\n\n\n\n\n\n 
URL:https://events-evenements.crcoc.ca/event-evenement/virtual-interactive-circle-time-for-preschoolers-2-6-yrs/
LOCATION:Ontario
CATEGORIES:Early ON-ON y va
ATTACH;FMTTYPE=image/jpeg:https://events-evenements.crcoc.ca/wp-content/uploads/2021/04/Circle-Time-for-Preschoolers-Pic.jpg
ORGANIZER;CN="EarlyON | ON y va":MAILTO:EarlyONyva@crcoc.ca
END:VEVENT
BEGIN:VEVENT
DTSTART;TZID=America/Toronto:20220111T110000
DTEND;TZID=America/Toronto:20220111T113000
DTSTAMP:20260422T164813
CREATED:20211228T210338Z
LAST-MODIFIED:20211228T210600Z
UID:9969-1641898800-1641900600@events-evenements.crcoc.ca
SUMMARY:Le temps de cercle virtuel interactif pour les préscolaires! (2 à 6 ans)
DESCRIPTION:Venez chanter\, jouer et vous amusez avec nous durant nos temps de cercle virtuel! Les chansons\, comptines et activités seront conçues pour les enfants âgés entre 2 et 6 ans. \n\n\n\n\n\n\n\n\n\n 
URL:https://events-evenements.crcoc.ca/event-evenement/le-temps-de-cercle-virtuel-interactif-pour-les-prescolaires-2-a-6-ans/
LOCATION:Ontario
CATEGORIES:Early ON-ON y va
ATTACH;FMTTYPE=image/jpeg:https://events-evenements.crcoc.ca/wp-content/uploads/2021/12/2-to-6-yrs-pic-Fr.jpg
ORGANIZER;CN="EarlyON | ON y va":MAILTO:EarlyONyva@crcoc.ca
END:VEVENT
BEGIN:VEVENT
DTSTART;TZID=America/Toronto:20220111T130000
DTEND;TZID=America/Toronto:20220111T150000
DTSTAMP:20260422T164813
CREATED:20211228T211002Z
LAST-MODIFIED:20211228T211004Z
UID:9983-1641906000-1641913200@events-evenements.crcoc.ca
SUMMARY:Baby weigh-in (in-person) // Prise de poids pour bébés (en personne)
DESCRIPTION:Parents can weigh their baby (self-serve) on Tuesdays from 1-3pm by appointment only. To book an appointment call the 613-830-4357 and ask to speak with the EarlyON team\, or email us at earlyonyva@crcoc.ca \n \nPlease note: This is not a medical appointment and a health care provider will not be present to assess the baby’s weight. However\, an EarlyON staff will be present to assist you with the scale.  // \n \nLes parents peuvent peser leur bébé (libre-service) les mardis de 13 à 15h sur rendez-vous seulement. Pour prendre rendez-vous appeler le 613-830-4357 et demander à parler à un membre de l’équipe ON y va\, ou par courriel au earlyonyva@crcoc.ca \n \nPrendre note: que ceci n’est pas un rendez-vous médical et qu’aucun professionnel de la santé ne sera présent pour évaluer la prise de poids du bébé. Cependant\, un membre de l’équipe ON y va sera disponible pour vous aider avec la balance.
URL:https://events-evenements.crcoc.ca/event-evenement/baby-weigh-in-in-person-prise-de-poids-pour-bebes-en-personne/2022-01-11/
LOCATION:Ontario
CATEGORIES:Early ON-ON y va
ATTACH;FMTTYPE=image/jpeg:https://events-evenements.crcoc.ca/wp-content/uploads/2021/07/Baby-Weigh-in-pict.jpg
ORGANIZER;CN="EarlyON | ON y va":MAILTO:EarlyONyva@crcoc.ca
END:VEVENT
BEGIN:VEVENT
DTSTART;TZID=America/Toronto:20220111T160000
DTEND;TZID=America/Toronto:20220111T180000
DTSTAMP:20260422T164813
CREATED:20211228T215708Z
LAST-MODIFIED:20211229T034857Z
UID:10045-1641916800-1641924000@events-evenements.crcoc.ca
SUMMARY:Kids Space - Grade 1 to 6 - Virtual // Espace Enfants - 1re à 6e année - Virtuel
DESCRIPTION:Join us virtually on Tuesdays from 4pm – 6pm in January.  A space to connect with other kids\, have fun\, learn some strategies and talk!  This month we’ll be kicking off the new year with some epic games\, crafts\, and fun challenges! REGISTRATION online //\n\n\n\n\nJoignez-vous à nous\, virtuelle les mardis de 16 H à 18 H en janvier.   Un espace pour se connecter avec d’autres enfants\, s’asumer\, apprendre des stratégies et parler.  Ce mois-ci\, nous partons la nouvelle année avec des jeux\, ds bricos et des défis amusants!  INSCRIVEZ-VOUS en ligne\n\n\n \n \n\n11 :  Everyone’s birthday party! // Anniversaire de toustes!\n18 :  Around the world games // Jeux autour du monde\n25 :  Winter adventure  //  Aventure d’hiver\n\n  If you have complications registering online\, please contact Isabel.  // Si l’inscription en ligne vous pose problème\, contacter Isabel. \n\n\n\n\n\n\n\n\n\n 
URL:https://events-evenements.crcoc.ca/event-evenement/kids-space-grade-1-to-6-virtual-espace-enfants-1re-a-6e-annee-virtuelle-2/
LOCATION:Ontario
CATEGORIES:Children & Youth-Enfants et jeunes
ATTACH;FMTTYPE=image/jpeg:https://events-evenements.crcoc.ca/wp-content/uploads/2021/01/kids-space-espace-enfants.jpg
ORGANIZER;CN="Children & Youth | Enfants et jeunes":MAILTO:info@crcoc.ca
END:VEVENT
BEGIN:VEVENT
DTSTART;TZID=America/Toronto:20220111T180000
DTEND;TZID=America/Toronto:20220111T190000
DTSTAMP:20260422T164813
CREATED:20211229T034131Z
LAST-MODIFIED:20211229T034251Z
UID:10084-1641924000-1641927600@events-evenements.crcoc.ca
SUMMARY:Ça va bien aller !  7e à 12e année (français - Via Zoom)
DESCRIPTION:7e à 12e année – Bimensuelle – Via Zoom \n\nLes mardis de 18 H à 19 H\n\n2e et 4e mardi (groupe en français)\n\n\nUn espace qui encourage l’espoir\, le soutien et les froces des jeunes.  Nous allons faire un check-in\, partager nos expériences\, apprendre des stratégies et faire des activités.\nINSCRIVEZ en ligne pour nous joindres ! (l’incription ouvre le vendredi à 8 h 30 avant la date du groupe)\nSi l’inscription en ligne vous pose problème\, veuillez contacter Tanya.\n\n\n\n\n\n\n\n\n\n\n 
URL:https://events-evenements.crcoc.ca/event-evenement/ca-va-bien-aller-7e-a-12e-annee-francais-via-zoom/
LOCATION:Ontario
CATEGORIES:Children & Youth-Enfants et jeunes
ATTACH;FMTTYPE=image/jpeg:https://events-evenements.crcoc.ca/wp-content/uploads/2021/12/Pic-Its-OK.jpg
ORGANIZER;CN="Children & Youth | Enfants et jeunes":MAILTO:info@crcoc.ca
END:VEVENT
END:VCALENDAR