BEGIN:VCALENDAR
VERSION:2.0
PRODID:-//OCCRC Events | Évènements CRCOC - ECPv6.15.18//NONSGML v1.0//EN
CALSCALE:GREGORIAN
METHOD:PUBLISH
X-WR-CALNAME:OCCRC Events | Évènements CRCOC
X-ORIGINAL-URL:https://events-evenements.crcoc.ca
X-WR-CALDESC:Events for OCCRC Events | Évènements CRCOC
REFRESH-INTERVAL;VALUE=DURATION:PT1H
X-Robots-Tag:noindex
X-PUBLISHED-TTL:PT1H
BEGIN:VTIMEZONE
TZID:America/Toronto
BEGIN:DAYLIGHT
TZOFFSETFROM:-0500
TZOFFSETTO:-0400
TZNAME:EDT
DTSTART:20200308T070000
END:DAYLIGHT
BEGIN:STANDARD
TZOFFSETFROM:-0400
TZOFFSETTO:-0500
TZNAME:EST
DTSTART:20201101T060000
END:STANDARD
BEGIN:DAYLIGHT
TZOFFSETFROM:-0500
TZOFFSETTO:-0400
TZNAME:EDT
DTSTART:20210314T070000
END:DAYLIGHT
BEGIN:STANDARD
TZOFFSETFROM:-0400
TZOFFSETTO:-0500
TZNAME:EST
DTSTART:20211107T060000
END:STANDARD
BEGIN:DAYLIGHT
TZOFFSETFROM:-0500
TZOFFSETTO:-0400
TZNAME:EDT
DTSTART:20220313T070000
END:DAYLIGHT
BEGIN:STANDARD
TZOFFSETFROM:-0400
TZOFFSETTO:-0500
TZNAME:EST
DTSTART:20221106T060000
END:STANDARD
END:VTIMEZONE
BEGIN:VEVENT
DTSTART;TZID=America/Toronto:20211102T093000
DTEND;TZID=America/Toronto:20211102T110000
DTSTAMP:20260420T222815
CREATED:20211027T111730Z
LAST-MODIFIED:20211027T112523Z
UID:8060-1635845400-1635850800@events-evenements.crcoc.ca
SUMMARY:English playgroup at the EarlyON Centre!
DESCRIPTION:Families and child care providers are invited to participate to a MAXIMUM of one (1) playgroup per week (indoors). Let’s meet at the Orléans-Cumberland Community Resource Centre (240 Centrum boulevard unit 105) for an in person playgroup! This program is geared towards children 0 to 6 years old. Play based learning experiences that are fun and engaging. Please make sure to enter the TOTAL amount of guests attending the activity. All participants will be ask to use the back door of the building facing the Shenkman Arts Centre to access the EarlyON Centre.      \n\n\n\n\n\n\n\n\n\n 
URL:https://events-evenements.crcoc.ca/event-evenement/english-playgroup-at-the-earlyon-centre-5/
LOCATION:Ontario
CATEGORIES:Early ON-ON y va
ATTACH;FMTTYPE=image/jpeg:https://events-evenements.crcoc.ca/wp-content/uploads/2021/01/Indoors_Novembre_FR.jpg
ORGANIZER;CN="EarlyON | ON y va":MAILTO:EarlyONyva@crcoc.ca
END:VEVENT
BEGIN:VEVENT
DTSTART;TZID=America/Toronto:20211102T130000
DTEND;TZID=America/Toronto:20211102T150000
DTSTAMP:20260420T222815
CREATED:20211027T113027Z
LAST-MODIFIED:20211027T113039Z
UID:8082-1635858000-1635865200@events-evenements.crcoc.ca
SUMMARY:Baby weigh-in // Prise de poids pour bébés
DESCRIPTION:Parents can weigh their baby (self-serve) on Tuesdays from 1-3pm by appointment only. To book an appointment call the 613-830-4357 and ask to speak with the EarlyON team\, or email us at earlyonyva@crcoc.ca \nPlease note: This is not a medical appointment and a health care provider will not be present to assess the baby’s weight. However\, an EarlyON staff will be present to assist you with the scale.   \nAll participants will be ask to use the back door of the building facing the Shenkman Arts Centre to access the EarlyON Centre.  //\n \n \nLes parents peuvent peser leur bébé (libre-service) les mardis de 13 à 15h sur rendez-vous seulement. Pour prendre rendez-vous appeler le 613-830-4357 et demander à parler à un membre de l’équipe ON y va\, ou par courriel au earlyonyva@crcoc.ca \nPrendre note que ceci n’est pas un rendez-vous médical et qu’aucun professionnel de la santé ne sera présent pour évaluer la prise de poids du bébé. Cependant\, un membre de l’équipe ON y va sera disponible pour vous aider avec la balance. \nLes familles inscrites devront utiliser la porte arrière faisant face au Centre des arts Shenkman pour entrer au Centre ON y va
URL:https://events-evenements.crcoc.ca/event-evenement/baby-weigh-in-prise-de-poids-pour-bebes-4/2021-11-02/
LOCATION:Ontario
CATEGORIES:Early ON-ON y va
ATTACH;FMTTYPE=image/jpeg:https://events-evenements.crcoc.ca/wp-content/uploads/2021/07/Baby-Weigh-in-pict.jpg
ORGANIZER;CN="EarlyON | ON y va":MAILTO:EarlyONyva@crcoc.ca
END:VEVENT
BEGIN:VEVENT
DTSTART;TZID=America/Toronto:20211102T153000
DTEND;TZID=America/Toronto:20211102T163000
DTSTAMP:20260420T222815
CREATED:20211027T150123Z
LAST-MODIFIED:20211027T150835Z
UID:8177-1635867000-1635870600@events-evenements.crcoc.ca
SUMMARY:Kids Space: Grade 1 to 6 - Via Zoom //  Espace Enfants:  1re à 6e année - Via Zoom
DESCRIPTION:Weekly\, ongoing program – Bilingual – Virtual.  A space to connect with other kids\, have fun\, learn some strategies and talk!  This month we’ll be doing a variety of activities and while doing them will focus on how to be a good friend.  // Hebdomadaire\, programme continu – bilingue – virtuel.  Un espace pour se connecter avec d’autres enfants\, s’amuser\, apprendre des stratégies et parler.  Ce mois-ci\, nous allons faire une variété d’activités et tout en les faisant\, nous nous concentrerons sur la façon d’être un.e bon.ne ami.e.   November Virtual – Tuesdays from 3:30 pm to 4:30 pm  // Novembre Virtuel – les mardis de 15 H 30 à 16 H 30 \n\n2  –  What’s a forever friend?  //  Qu’est-ce qu’un ami pour la vie?\n9  –  Gratitude & Crafts // Appréciation et bricolages\n16  –  Minute to win it  //  Minute pour gagner\n23  –  We like to move-it\, move-it  //  Nous aimons bouger\, bouger\n30  –  Kahoots !\n\n  \n\n\n\n\n\n\n\n\n\n 
URL:https://events-evenements.crcoc.ca/event-evenement/kids-space-grade-1-to-6-via-zoom-espace-enfants-1re-a-6e-annee-via-zoom/
LOCATION:Ontario
CATEGORIES:Children & Youth-Enfants et jeunes
ATTACH;FMTTYPE=image/jpeg:https://events-evenements.crcoc.ca/wp-content/uploads/2021/01/kids-space-espace-enfants.jpg
ORGANIZER;CN="Children & Youth | Enfants et jeunes":MAILTO:info@crcoc.ca
END:VEVENT
BEGIN:VEVENT
DTSTART;TZID=America/Toronto:20211102T173000
DTEND;TZID=America/Toronto:20211102T183000
DTSTAMP:20260420T222815
CREATED:20211027T151400Z
LAST-MODIFIED:20211028T001004Z
UID:8199-1635874200-1635877800@events-evenements.crcoc.ca
SUMMARY:Kids Space: Grade 1 to 6 - In Person //  Espace Enfants:  1re à 6e année - En personne
DESCRIPTION:NOTE:  Registration for each weeks events opens only on the FRIDAY at 8:30am before the event//  AVIS :   Les inscriptions pour chaque événement par semaine ne s’ouvrent que le VENDREDI à 8 H 30 précédant l’événement. \n  \nWeekly\, ongoing program – Bilingual – In Person.  A space to connect with other kids\, have fun\, learn some strategies and talk!  This month we’ll be doing a variety of activities and while doing them will focus on how to be a good friend.  // Hebdomadaire\, programme continu – bilingue – En personne.  Un espace pour se connecter avec d’autres enfants\, s’amuser\, apprendre des stratégies et parler.  Ce mois-ci\, nous allons faire une variété d’activités et tout en les faisant\, nous nous concentrerons sur la façon d’être un.e bon.ne ami.e.   November Virtual – Tuesdays from 5:30 pm to 6:30 pm  // Novembre Virtuel – les mardis de 17 H 30 à 18 H 30 \n\n2  –  What’s a forever friend?  //  Qu’est-ce qu’un ami pour la vie?\n9  –  Gratitude & Crafts // Appréciation et bricolages\n16  –  Clay Creations  //  Créations d’argile\n23  –  We like to move-it\, move-it  //  Nous aimons bouger\, bouger\n30  –  Science experiments  //  Expériences scientifiques\n\n\n\n\n\n\n\n\n\n\n 
URL:https://events-evenements.crcoc.ca/event-evenement/kids-space-grade-1-to-6-in-person-espace-enfants-1re-a-6e-annee-en-personne/
LOCATION:Ontario
CATEGORIES:Children & Youth-Enfants et jeunes
ATTACH;FMTTYPE=image/jpeg:https://events-evenements.crcoc.ca/wp-content/uploads/2021/01/kids-space-espace-enfants-1.jpg
ORGANIZER;CN="Children & Youth | Enfants et jeunes":MAILTO:info@crcoc.ca
END:VEVENT
END:VCALENDAR