BEGIN:VCALENDAR
VERSION:2.0
PRODID:-//OCCRC Events | Évènements CRCOC - ECPv6.15.18//NONSGML v1.0//EN
CALSCALE:GREGORIAN
METHOD:PUBLISH
X-WR-CALNAME:OCCRC Events | Évènements CRCOC
X-ORIGINAL-URL:https://events-evenements.crcoc.ca
X-WR-CALDESC:Events for OCCRC Events | Évènements CRCOC
REFRESH-INTERVAL;VALUE=DURATION:PT1H
X-Robots-Tag:noindex
X-PUBLISHED-TTL:PT1H
BEGIN:VTIMEZONE
TZID:America/Toronto
BEGIN:DAYLIGHT
TZOFFSETFROM:-0500
TZOFFSETTO:-0400
TZNAME:EDT
DTSTART:20200308T070000
END:DAYLIGHT
BEGIN:STANDARD
TZOFFSETFROM:-0400
TZOFFSETTO:-0500
TZNAME:EST
DTSTART:20201101T060000
END:STANDARD
BEGIN:DAYLIGHT
TZOFFSETFROM:-0500
TZOFFSETTO:-0400
TZNAME:EDT
DTSTART:20210314T070000
END:DAYLIGHT
BEGIN:STANDARD
TZOFFSETFROM:-0400
TZOFFSETTO:-0500
TZNAME:EST
DTSTART:20211107T060000
END:STANDARD
BEGIN:DAYLIGHT
TZOFFSETFROM:-0500
TZOFFSETTO:-0400
TZNAME:EDT
DTSTART:20220313T070000
END:DAYLIGHT
BEGIN:STANDARD
TZOFFSETFROM:-0400
TZOFFSETTO:-0500
TZNAME:EST
DTSTART:20221106T060000
END:STANDARD
END:VTIMEZONE
BEGIN:VEVENT
DTSTART;TZID=America/Toronto:20211013T110000
DTEND;TZID=America/Toronto:20211013T120000
DTSTAMP:20260422T014401
CREATED:20210929T033816Z
LAST-MODIFIED:20211008T165949Z
UID:6903-1634122800-1634126400@events-evenements.crcoc.ca
SUMMARY:Introduction to infant massage //  Introduction aux massages pour bébés
DESCRIPTION:This activity will take place at the Orléans-Cumberland Community Resource Centre (240 Centrum boulevard unit 105).  //  Cette activité aura lieu au Centre de ressources communautaires Orléans-Cumberland (240 boulevard Centrum unité 105 à Orléans).   There are many benefits of Infant massage. Together we will explore different ways to massage baby\, and enjoy the interactions among parents.  //  Il y a plusieurs bienfaits aux massages pour bébés. Ensemble\, nous explorerons différentes façons de masser bébé et nous en profiterons pour discuter entres parents. \n\n\n\n\n\n\n\n\n\n 
URL:https://events-evenements.crcoc.ca/event-evenement/introduction-to-infant-massage-introduction-aux-massages-pour-bebes/
LOCATION:Ontario
CATEGORIES:Early ON-ON y va
ATTACH;FMTTYPE=image/jpeg:https://events-evenements.crcoc.ca/wp-content/uploads/2021/08/Infant-Message-Pic.jpg
ORGANIZER;CN="EarlyON | ON y va":MAILTO:EarlyONyva@crcoc.ca
END:VEVENT
BEGIN:VEVENT
DTSTART;TZID=America/Toronto:20211013T110000
DTEND;TZID=America/Toronto:20211013T233000
DTSTAMP:20260422T014401
CREATED:20210929T035733Z
LAST-MODIFIED:20211006T111251Z
UID:6931-1634122800-1634167800@events-evenements.crcoc.ca
SUMMARY:Virtual interactive circle time!  //  Temps de cercle virtuel interactif!
DESCRIPTION:Come sing\, play\, and have fun during our virtual circle time! The songs\, rhymes\, and storytime will be enjoyable for all children!  //   Venez chanter\, jouer et vous amusez avec nous durant nos temps de cercle virtuel! Les chansons\, comptines et histoires plairont aux plus petits comme aux plus grands! \n\n\n\n\n\n\n\n\n\n 
URL:https://events-evenements.crcoc.ca/event-evenement/virtual-interactive-circle-time-temps-de-cercle-virtuel-interactif-2021-10-13/
LOCATION:Ontario
CATEGORIES:Early ON-ON y va
ATTACH;FMTTYPE=image/png:https://events-evenements.crcoc.ca/wp-content/uploads/2021/01/Interactive-Circle-Time-Tuesdays.png
ORGANIZER;CN="EarlyON | ON y va":MAILTO:EarlyONyva@crcoc.ca
END:VEVENT
END:VCALENDAR