BEGIN:VCALENDAR
VERSION:2.0
PRODID:-//OCCRC Events | Évènements CRCOC - ECPv6.15.18//NONSGML v1.0//EN
CALSCALE:GREGORIAN
METHOD:PUBLISH
X-WR-CALNAME:OCCRC Events | Évènements CRCOC
X-ORIGINAL-URL:https://events-evenements.crcoc.ca
X-WR-CALDESC:Events for OCCRC Events | Évènements CRCOC
REFRESH-INTERVAL;VALUE=DURATION:PT1H
X-Robots-Tag:noindex
X-PUBLISHED-TTL:PT1H
BEGIN:VTIMEZONE
TZID:America/Toronto
BEGIN:DAYLIGHT
TZOFFSETFROM:-0500
TZOFFSETTO:-0400
TZNAME:EDT
DTSTART:20200308T070000
END:DAYLIGHT
BEGIN:STANDARD
TZOFFSETFROM:-0400
TZOFFSETTO:-0500
TZNAME:EST
DTSTART:20201101T060000
END:STANDARD
BEGIN:DAYLIGHT
TZOFFSETFROM:-0500
TZOFFSETTO:-0400
TZNAME:EDT
DTSTART:20210314T070000
END:DAYLIGHT
BEGIN:STANDARD
TZOFFSETFROM:-0400
TZOFFSETTO:-0500
TZNAME:EST
DTSTART:20211107T060000
END:STANDARD
BEGIN:DAYLIGHT
TZOFFSETFROM:-0500
TZOFFSETTO:-0400
TZNAME:EDT
DTSTART:20220313T070000
END:DAYLIGHT
BEGIN:STANDARD
TZOFFSETFROM:-0400
TZOFFSETTO:-0500
TZNAME:EST
DTSTART:20221106T060000
END:STANDARD
END:VTIMEZONE
BEGIN:VEVENT
DTSTART;TZID=America/Toronto:20210929T100000
DTEND;TZID=America/Toronto:20210929T103000
DTSTAMP:20260423T172131
CREATED:20210826T014410Z
LAST-MODIFIED:20210826T014411Z
UID:5642-1632909600-1632911400@events-evenements.crcoc.ca
SUMMARY:Virtual interactive circle time!
DESCRIPTION:Come sing\, play and have fun during our virtual circle time! The songs\, rhymes and story time will be enjoyable for all children!
URL:https://events-evenements.crcoc.ca/event-evenement/virtual-interactive-circle-time-5/
LOCATION:Orléans
CATEGORIES:Early ON-ON y va
ATTACH;FMTTYPE=image/png:https://events-evenements.crcoc.ca/wp-content/uploads/2021/01/Interactive-Circle-Time-Tuesdays.png
ORGANIZER;CN="EarlyON | ON y va":MAILTO:EarlyONyva@crcoc.ca
END:VEVENT
BEGIN:VEVENT
DTSTART;TZID=America/Toronto:20210929T100000
DTEND;TZID=America/Toronto:20210929T110000
DTSTAMP:20260423T172132
CREATED:20210826T103404Z
LAST-MODIFIED:20210826T103406Z
UID:5714-1632909600-1632913200@events-evenements.crcoc.ca
SUMMARY:Gross motor fun at the park // On bouge en s'amusant au parc (Queenswood Heights)
DESCRIPTION:Let’s meet at the Queenswood Heights park\, 1485 Duford Drive\, for this fun activity!  Get ready to jump\, run\, climb and move with us at the park! During this activity\, your children will get the chance to practice all of their gross motor skills! //\n\nJoignez-vous à nous au parc de Queenswoods Heights au 1485 promenade Duford pour cette activité amusante! Venez sauter\, courrir\, grimper et bouger avec nous au parc! Durant cette activité\, votre enfant aura la chance de mettre sa motricité globale en pratique!
URL:https://events-evenements.crcoc.ca/event-evenement/gross-motor-fun-at-the-park-on-bouge-en-samusant-au-parc-queenswood-heights/
LOCATION:Orléans
CATEGORIES:Early ON-ON y va
ATTACH;FMTTYPE=image/jpeg:https://events-evenements.crcoc.ca/wp-content/uploads/2021/08/Gross-Motor-Fun-pic.jpg
ORGANIZER;CN="EarlyON | ON y va":MAILTO:EarlyONyva@crcoc.ca
END:VEVENT
BEGIN:VEVENT
DTSTART;TZID=America/Toronto:20210929T110000
DTEND;TZID=America/Toronto:20210929T113000
DTSTAMP:20260423T172132
CREATED:20210826T015248Z
LAST-MODIFIED:20210826T015250Z
UID:5662-1632913200-1632915000@events-evenements.crcoc.ca
SUMMARY:Temps de cercle virtuel interactif!
DESCRIPTION:Venez chanter\, jouer et vous amusez avec nous durant nos temps de cercle virtuel! Les chansons\, comptines et histoires plairont aux plus petits comme aux plus grands!
URL:https://events-evenements.crcoc.ca/event-evenement/temps-de-cercle-virtuel-interactif-6/
LOCATION:Orléans
CATEGORIES:Early ON-ON y va
ATTACH;FMTTYPE=image/png:https://events-evenements.crcoc.ca/wp-content/uploads/2021/01/Interactive-Circle-Time-Tuesdays.png
ORGANIZER;CN="EarlyON | ON y va":MAILTO:EarlyONyva@crcoc.ca
END:VEVENT
END:VCALENDAR