BEGIN:VCALENDAR
VERSION:2.0
PRODID:-//OCCRC Events | Évènements CRCOC - ECPv6.15.18//NONSGML v1.0//EN
CALSCALE:GREGORIAN
METHOD:PUBLISH
X-WR-CALNAME:OCCRC Events | Évènements CRCOC
X-ORIGINAL-URL:https://events-evenements.crcoc.ca
X-WR-CALDESC:Events for OCCRC Events | Évènements CRCOC
REFRESH-INTERVAL;VALUE=DURATION:PT1H
X-Robots-Tag:noindex
X-PUBLISHED-TTL:PT1H
BEGIN:VTIMEZONE
TZID:America/Toronto
BEGIN:DAYLIGHT
TZOFFSETFROM:-0500
TZOFFSETTO:-0400
TZNAME:EDT
DTSTART:20200308T070000
END:DAYLIGHT
BEGIN:STANDARD
TZOFFSETFROM:-0400
TZOFFSETTO:-0500
TZNAME:EST
DTSTART:20201101T060000
END:STANDARD
BEGIN:DAYLIGHT
TZOFFSETFROM:-0500
TZOFFSETTO:-0400
TZNAME:EDT
DTSTART:20210314T070000
END:DAYLIGHT
BEGIN:STANDARD
TZOFFSETFROM:-0400
TZOFFSETTO:-0500
TZNAME:EST
DTSTART:20211107T060000
END:STANDARD
BEGIN:DAYLIGHT
TZOFFSETFROM:-0500
TZOFFSETTO:-0400
TZNAME:EDT
DTSTART:20220313T070000
END:DAYLIGHT
BEGIN:STANDARD
TZOFFSETFROM:-0400
TZOFFSETTO:-0500
TZNAME:EST
DTSTART:20221106T060000
END:STANDARD
END:VTIMEZONE
BEGIN:VEVENT
DTSTART;TZID=America/Toronto:20210608T100000
DTEND;TZID=America/Toronto:20210608T103000
DTSTAMP:20260421T125020
CREATED:20210524T193844Z
LAST-MODIFIED:20210525T123901Z
UID:3616-1623146400-1623148200@events-evenements.crcoc.ca
SUMMARY:Interactive circle time!
DESCRIPTION:Come sing\, play and have fun during our virtual circle time! The songs\, rhymes and story time will be enjoyable for all children!
URL:https://events-evenements.crcoc.ca/event-evenement/interactive-circle-time-12-2021-06-08/
LOCATION:Ontario
CATEGORIES:Early ON-ON y va
ATTACH;FMTTYPE=image/png:https://events-evenements.crcoc.ca/wp-content/uploads/2021/01/Interactive-Circle-Time-Tuesdays.png
ORGANIZER;CN="EarlyON | ON y va":MAILTO:EarlyONyva@crcoc.ca
END:VEVENT
BEGIN:VEVENT
DTSTART;TZID=America/Toronto:20210608T133000
DTEND;TZID=America/Toronto:20210608T140000
DTSTAMP:20260421T125020
CREATED:20210524T195030Z
LAST-MODIFIED:20210525T123901Z
UID:3634-1623159000-1623160800@events-evenements.crcoc.ca
SUMMARY:The virtual coffee chat - Toilet learning
DESCRIPTION:Join us via zoom for an informal chat about different topics regarding your child development\, parenting\, and many other subjects. Every week we will open with a different topic of discussion. \n\n\n\nToilet learning is a big step for your child and not an easy task! Let’s explore best practices and strategies to support your child in this important step.
URL:https://events-evenements.crcoc.ca/event-evenement/the-virtual-coffee-chat-toilet-learning/
LOCATION:Ontario
CATEGORIES:Early ON-ON y va
ATTACH;FMTTYPE=image/jpeg:https://events-evenements.crcoc.ca/wp-content/uploads/2021/04/Coffee-Chat-Pic.jpg
ORGANIZER;CN="EarlyON | ON y va":MAILTO:EarlyONyva@crcoc.ca
END:VEVENT
BEGIN:VEVENT
DTSTART;TZID=America/Toronto:20210608T143000
DTEND;TZID=America/Toronto:20210608T150000
DTSTAMP:20260421T125020
CREATED:20210524T195218Z
LAST-MODIFIED:20210525T123900Z
UID:3637-1623162600-1623164400@events-evenements.crcoc.ca
SUMMARY:La pause café virtuelle -  L'apprentissage à la propreté
DESCRIPTION:Joignez-vous à nous pour une discussion informelle concernant le développement des enfants\, les habiletés parentales et plusieurs autres sujets. À chaque semaine nous débuterons le groupe avec un sujet de discussion différent. \n\n\n\nL’apprentissage à la propreté n’est pas une tâche facile ! Allons explorer ensemble les bonnes pratiques et quelques stratégies pour bien accompagner son enfant dans cette étape importante.
URL:https://events-evenements.crcoc.ca/event-evenement/la-pause-cafe-virtuelle-lapprentissage-a-la-proprete/
LOCATION:Ontario
CATEGORIES:Early ON-ON y va
ATTACH;FMTTYPE=image/jpeg:https://events-evenements.crcoc.ca/wp-content/uploads/2021/04/Pause-Cafe-Pic.jpg
ORGANIZER;CN="EarlyON | ON y va":MAILTO:EarlyONyva@crcoc.ca
END:VEVENT
BEGIN:VEVENT
DTSTART;TZID=America/Toronto:20210608T160000
DTEND;TZID=America/Toronto:20210608T173000
DTSTAMP:20260421T125020
CREATED:20210526T014833Z
LAST-MODIFIED:20210617T181648Z
UID:3788-1623168000-1623173400@events-evenements.crcoc.ca
SUMMARY:Kids Space - Grades 1 to 6 / Espace enfants - 1re à 6e année
DESCRIPTION:Kids Space – Bilingual – Via Zoom; Bi-weekly\, ongoing program; A space to connect with other kids\, have fun\, learn some strategies and talk. — Four Sessions in June: 8th  – Teamwork & Escape room; June 15th Nature & Animals; June 22nd  – “Dif-ability” & Games; and June 29th Inclusion & Games. // \n\n\n\nEspace enfants – Bilingue – Via Zoom; Bimensuel\, programme continu; Un espace pour se connecter avec d’autres enfants\, s’amuser\, apprendre des stratégies et parler. — quatre sessions en juin : le 8 – Équipes et salle d’évasion; le 15 – Nature et animaux; le 22 – « Dif-habileté » et jeux; et le 29 – Inclusion et jeux.
URL:https://events-evenements.crcoc.ca/event-evenement/kids-space-grades-4-to-6-espace-enfants-4e-a-6e-annee-2/2021-06-08/
LOCATION:Ontario
CATEGORIES:Children & Youth-Enfants et jeunes
ATTACH;FMTTYPE=image/jpeg:https://events-evenements.crcoc.ca/wp-content/uploads/2021/01/kids-space-espace-enfants.jpg
ORGANIZER;CN="Children & Youth | Enfants et jeunes":MAILTO:info@crcoc.ca
END:VEVENT
END:VCALENDAR