BEGIN:VCALENDAR
VERSION:2.0
PRODID:-//OCCRC Events | Évènements CRCOC - ECPv6.15.18//NONSGML v1.0//EN
CALSCALE:GREGORIAN
METHOD:PUBLISH
X-ORIGINAL-URL:https://events-evenements.crcoc.ca
X-WR-CALDESC:Events for OCCRC Events | Évènements CRCOC
REFRESH-INTERVAL;VALUE=DURATION:PT1H
X-Robots-Tag:noindex
X-PUBLISHED-TTL:PT1H
BEGIN:VTIMEZONE
TZID:America/Toronto
BEGIN:DAYLIGHT
TZOFFSETFROM:-0500
TZOFFSETTO:-0400
TZNAME:EDT
DTSTART:20200308T070000
END:DAYLIGHT
BEGIN:STANDARD
TZOFFSETFROM:-0400
TZOFFSETTO:-0500
TZNAME:EST
DTSTART:20201101T060000
END:STANDARD
BEGIN:DAYLIGHT
TZOFFSETFROM:-0500
TZOFFSETTO:-0400
TZNAME:EDT
DTSTART:20210314T070000
END:DAYLIGHT
BEGIN:STANDARD
TZOFFSETFROM:-0400
TZOFFSETTO:-0500
TZNAME:EST
DTSTART:20211107T060000
END:STANDARD
BEGIN:DAYLIGHT
TZOFFSETFROM:-0500
TZOFFSETTO:-0400
TZNAME:EDT
DTSTART:20220313T070000
END:DAYLIGHT
BEGIN:STANDARD
TZOFFSETFROM:-0400
TZOFFSETTO:-0500
TZNAME:EST
DTSTART:20221106T060000
END:STANDARD
END:VTIMEZONE
BEGIN:VEVENT
DTSTART;TZID=America/Toronto:20210325T093000
DTEND;TZID=America/Toronto:20210325T110000
DTSTAMP:20260422T014420
CREATED:20210224T200703Z
LAST-MODIFIED:20210320T140810Z
UID:2257-1616664600-1616670000@events-evenements.crcoc.ca
SUMMARY:ANNULÉ - Groupe de jeu francophone en personne à Orléans!
DESCRIPTION:Joignez-vous à nous au Centre de ressources communautaires Orléans-Cumberland (240 boulevard Centrum unité 105 à Orléans) pour ungroupe de jeu en personne!  Conçu pour permettre aux enfants de 0 à 6 ans de vivre des expériencesd’apprentissage par le jeu amusantes et stimulantes!  \n\n\n\nLes familles inscrites devront utiliser la porte arrièrefaisant face au Centre des arts Shenkman pour entrerau Centre ON y va \n\n\n\n** La sécurité de tous nous tiens à coeur. Avant chaque groupe nous feront un courtdépistage de tous les participants et nous prendrons votre température. Le port dumasque est obligatoire pour tous les adultes et fortement recommandé pour lesenfants de plus de 2 ans. Voir les politiques et procédures de la COVID-19 pour plusde détails.**
URL:https://events-evenements.crcoc.ca/event-evenement/groupe-de-jeu-francophone-en-personne-a-orleans-2-2021-03-25/
LOCATION:Ontario
CATEGORIES:Early ON-ON y va
ATTACH;FMTTYPE=image/jpeg:https://events-evenements.crcoc.ca/wp-content/uploads/2021/01/Indoors_Novembre_FR.jpg
ORGANIZER;CN="EarlyON | ON y va":MAILTO:EarlyONyva@crcoc.ca
END:VEVENT
BEGIN:VEVENT
DTSTART;TZID=America/Toronto:20210325T163000
DTEND;TZID=America/Toronto:20210325T173000
DTSTAMP:20260422T014420
CREATED:20210320T142629Z
LAST-MODIFIED:20210320T142632Z
UID:2632-1616689800-1616693400@events-evenements.crcoc.ca
SUMMARY:Nutrition & me (Grade 7 to 12) // Nutrition et moi (7 à 12 année)
DESCRIPTION:Nutrition workshop for teens in Grade 7 to 12 – during Youth Space.  //  Atelier sur la nutrition pour les adolescents de la 7e à la 12e année – pendant l’Espace jeunesse. \n\n\n\nTo register\, please send an email to Isabel with your name and your postal code to student@crcoc.ca.  Limited Spots.  // Pour vous inscrire\, veuillez envoyer un courriel à Isabel avec votre nom et votre code postal à student@crcoc.ca.  Places limitées.
URL:https://events-evenements.crcoc.ca/event-evenement/nutrition-me-grade-7-to-12-nutrition-et-moi-7-a-12-annee/
LOCATION:Ontario
CATEGORIES:Children & Youth-Enfants et jeunes
ATTACH;FMTTYPE=image/png:https://events-evenements.crcoc.ca/wp-content/uploads/2021/03/Nutrition-et-moi-FR-March-2021.png
ORGANIZER;CN="Children & Youth | Enfants et jeunes":MAILTO:info@crcoc.ca
END:VEVENT
END:VCALENDAR