BEGIN:VCALENDAR
VERSION:2.0
PRODID:-//OCCRC Events | Évènements CRCOC - ECPv6.15.18//NONSGML v1.0//EN
CALSCALE:GREGORIAN
METHOD:PUBLISH
X-WR-CALNAME:OCCRC Events | Évènements CRCOC
X-ORIGINAL-URL:https://events-evenements.crcoc.ca
X-WR-CALDESC:Events for OCCRC Events | Évènements CRCOC
REFRESH-INTERVAL;VALUE=DURATION:PT1H
X-Robots-Tag:noindex
X-PUBLISHED-TTL:PT1H
BEGIN:VTIMEZONE
TZID:America/Toronto
BEGIN:DAYLIGHT
TZOFFSETFROM:-0500
TZOFFSETTO:-0400
TZNAME:EDT
DTSTART:20200308T070000
END:DAYLIGHT
BEGIN:STANDARD
TZOFFSETFROM:-0400
TZOFFSETTO:-0500
TZNAME:EST
DTSTART:20201101T060000
END:STANDARD
BEGIN:DAYLIGHT
TZOFFSETFROM:-0500
TZOFFSETTO:-0400
TZNAME:EDT
DTSTART:20210314T070000
END:DAYLIGHT
BEGIN:STANDARD
TZOFFSETFROM:-0400
TZOFFSETTO:-0500
TZNAME:EST
DTSTART:20211107T060000
END:STANDARD
BEGIN:DAYLIGHT
TZOFFSETFROM:-0500
TZOFFSETTO:-0400
TZNAME:EDT
DTSTART:20220313T070000
END:DAYLIGHT
BEGIN:STANDARD
TZOFFSETFROM:-0400
TZOFFSETTO:-0500
TZNAME:EST
DTSTART:20221106T060000
END:STANDARD
END:VTIMEZONE
BEGIN:VEVENT
DTSTART;TZID=America/Toronto:20210323T093000
DTEND;TZID=America/Toronto:20210323T110000
DTSTAMP:20260422T014356
CREATED:20210224T200228Z
LAST-MODIFIED:20210323T153031Z
UID:2250-1616491800-1616497200@events-evenements.crcoc.ca
SUMMARY:CANCELLED - Orléans in person English playgroup!
DESCRIPTION:Let’s meet at the Orléans-Cumberland Community Resource Centre (240Centrum boulevard unit 105) for an in person playgroup! This program isgeared towards children 0 to 6 years old. Play based learning experiencesthat are fun and engaging. \n\n\n\nAll participants will be ask to use the back door of thebuilding facing the Shenkman Arts Centre to access theEarlyON Centre. \n\n\n\n**Safety is very important to us! We will screen all participants\, have a lowregistration limit\, and each participant will have their temperature checked.Masks are mandatory for all adults and hightly recommended for children overthe age of 2. See our COVID-19 policies and procedures for more details.
URL:https://events-evenements.crcoc.ca/event-evenement/orleans-in-person-english-playgroup-3-2021-03-23/
LOCATION:Ontario
CATEGORIES:Early ON-ON y va
ATTACH;FMTTYPE=image/jpeg:https://events-evenements.crcoc.ca/wp-content/uploads/2021/01/Indoors_Novembre_FR.jpg
ORGANIZER;CN="EarlyON | ON y va":MAILTO:EarlyONyva@crcoc.ca
END:VEVENT
BEGIN:VEVENT
DTSTART;TZID=America/Toronto:20210323T133000
DTEND;TZID=America/Toronto:20210323T140000
DTSTAMP:20260422T014356
CREATED:20210224T191827Z
LAST-MODIFIED:20210224T191830Z
UID:2202-1616506200-1616508000@events-evenements.crcoc.ca
SUMMARY:The virtual coffee chat - cooperation in children
DESCRIPTION:Join us via zoom for an informal chat about different topics regarding your childdevelopment\, parenting\, and many others. Every week we will open with a differenttopic of discussion. \n\n\n\nTogether we will explore meaningful ways to communicate with your children.Specifically how we can encourage children to cooperate. This discussion isbased on information from the book “How to talk so kids will listen” by AdeleFaber and Elaine Mazlish
URL:https://events-evenements.crcoc.ca/event-evenement/the-virtual-coffee-chat-cooperation-in-children/
LOCATION:Ontario
CATEGORIES:Early ON-ON y va
ATTACH;FMTTYPE=image/jpeg:https://events-evenements.crcoc.ca/wp-content/uploads/2021/01/coffee-chat.jpg
ORGANIZER;CN="EarlyON | ON y va":MAILTO:EarlyONyva@crcoc.ca
END:VEVENT
BEGIN:VEVENT
DTSTART;TZID=America/Toronto:20210323T143000
DTEND;TZID=America/Toronto:20210323T150000
DTSTAMP:20260422T014356
CREATED:20210224T192112Z
LAST-MODIFIED:20210224T192115Z
UID:2205-1616509800-1616511600@events-evenements.crcoc.ca
SUMMARY:La pause café virtuelle - La coopération des enfants
DESCRIPTION:Joignez-vous à nous pour une discussion informelle concernant le développement desenfants\, les habiletés parentales et plusieurs autres sujets. À chaque semaine nousdébuterons le groupe avec un sujet de discussion différent. \n\n\n\nEnsemble\, nous explorerons des moyens significatifs de communiquer avecnos enfants. Plus précisément\, comment encourager les enfants à coopérer.La discussion sera basée sur des informations tirées du livre «Commentparler pour que les enfants écoutent» par Adele Faber et Elaine Mazlish
URL:https://events-evenements.crcoc.ca/event-evenement/la-pause-cafe-virtuelle-la-cooperation-des-enfants/
LOCATION:Ontario
CATEGORIES:Early ON-ON y va
ATTACH;FMTTYPE=image/jpeg:https://events-evenements.crcoc.ca/wp-content/uploads/2021/01/coffee-chat.jpg
ORGANIZER;CN="EarlyON | ON y va":MAILTO:EarlyONyva@crcoc.ca
END:VEVENT
BEGIN:VEVENT
DTSTART;TZID=America/Toronto:20210323T160000
DTEND;TZID=America/Toronto:20210323T170000
DTSTAMP:20260422T014356
CREATED:20210224T212209Z
LAST-MODIFIED:20210224T213943Z
UID:2279-1616515200-1616518800@events-evenements.crcoc.ca
SUMMARY:Kids Space: Grade 4 to 6 // Espace Enfants: 4e à 6e année
DESCRIPTION:Kids Space – Grade 4 to 6 – Bilingual – Via Zoom. // Espace Enfants:  4e à 6e année – Bilingue – Via Zoom \n\n\n\nA space to connect with other kids\, have fun\, learn some strategies and talk. Topic will be on Friendships and Bullying. // Un espace pour se connecter avec d’autres enfants\, s’amuser\, apprendre des stratégies et parler.  Le sujet sera sur Amitiés et intimidation. \n\n\n\nTo register\, contact Tanya: tanya@crcoc.ca or 613-830-4357 ext. 140  // Pour vous inscrire\, communiquez avec Tanya:  tanya@crcoc.ca ou 613-830-4357 poste 140
URL:https://events-evenements.crcoc.ca/event-evenement/kids-space-grade-4-to-6-espace-enfants-4e-a-6e-annee-2/
LOCATION:Ontario
CATEGORIES:Children & Youth-Enfants et jeunes
ATTACH;FMTTYPE=image/jpeg:https://events-evenements.crcoc.ca/wp-content/uploads/2021/01/kids-space-espace-enfants.jpg
ORGANIZER;CN="Children & Youth | Enfants et jeunes":MAILTO:info@crcoc.ca
END:VEVENT
BEGIN:VEVENT
DTSTART;TZID=America/Toronto:20210323T180000
DTEND;TZID=America/Toronto:20210323T190000
DTSTAMP:20260422T014356
CREATED:20210320T142044Z
LAST-MODIFIED:20210320T142047Z
UID:2630-1616522400-1616526000@events-evenements.crcoc.ca
SUMMARY:Let's Talk Nutrition (Grade 1 to 6) //  Parlons de nutrition (1e à 6e année)
DESCRIPTION:Nutrition workshop for parents and children in Grade 1 to 6.  Topics:  Different good groups\, a well balanced plate\, quick and nutritious snack ideas + a recipe. // Atelier de nutrition pour les parents et les enfants de la 1e à la 6e année.   Sujets : les différents bons groupes alimentaires\, l’assiette bien équilibrée\, des idées de collations rapides et santés + une recette. \n\n\n\nTo register\, please send email to Isabel with your name and your child/children’s names (Grades 1 to 6 only) and your postal code to student@crcoc.ca.  Limited spots.  // Pour vous inscrire\, veuillez envoyer un courriel à Isabel avec votre nom\, le nom de votre / vos enfant / enfants (1e à 6e année seulement) et votre code postal à student@crcoc.ca.  Places limitées.
URL:https://events-evenements.crcoc.ca/event-evenement/lets-talk-nutrition-grade-1-to-6-parlons-de-nutrition-1e-a-6e-annee/
LOCATION:Ontario
CATEGORIES:Children & Youth-Enfants et jeunes
ATTACH;FMTTYPE=image/png:https://events-evenements.crcoc.ca/wp-content/uploads/2021/03/Nutrition-Workships-March-2021.png
ORGANIZER;CN="Children & Youth | Enfants et jeunes":MAILTO:info@crcoc.ca
END:VEVENT
END:VCALENDAR