BEGIN:VCALENDAR
VERSION:2.0
PRODID:-//OCCRC Events | Évènements CRCOC - ECPv6.15.18//NONSGML v1.0//EN
CALSCALE:GREGORIAN
METHOD:PUBLISH
X-ORIGINAL-URL:https://events-evenements.crcoc.ca
X-WR-CALDESC:Events for OCCRC Events | Évènements CRCOC
REFRESH-INTERVAL;VALUE=DURATION:PT1H
X-Robots-Tag:noindex
X-PUBLISHED-TTL:PT1H
BEGIN:VTIMEZONE
TZID:America/Toronto
BEGIN:DAYLIGHT
TZOFFSETFROM:-0500
TZOFFSETTO:-0400
TZNAME:EDT
DTSTART:20250309T070000
END:DAYLIGHT
BEGIN:STANDARD
TZOFFSETFROM:-0400
TZOFFSETTO:-0500
TZNAME:EST
DTSTART:20251102T060000
END:STANDARD
BEGIN:DAYLIGHT
TZOFFSETFROM:-0500
TZOFFSETTO:-0400
TZNAME:EDT
DTSTART:20260308T070000
END:DAYLIGHT
BEGIN:STANDARD
TZOFFSETFROM:-0400
TZOFFSETTO:-0500
TZNAME:EST
DTSTART:20261101T060000
END:STANDARD
BEGIN:DAYLIGHT
TZOFFSETFROM:-0500
TZOFFSETTO:-0400
TZNAME:EDT
DTSTART:20270314T070000
END:DAYLIGHT
BEGIN:STANDARD
TZOFFSETFROM:-0400
TZOFFSETTO:-0500
TZNAME:EST
DTSTART:20271107T060000
END:STANDARD
END:VTIMEZONE
BEGIN:VEVENT
DTSTART;TZID=America/Toronto:20260430T133000
DTEND;TZID=America/Toronto:20260430T153000
DTSTAMP:20260422T201440
CREATED:20260224T204204Z
LAST-MODIFIED:20260422T192607Z
UID:25260-1777555800-1777563000@events-evenements.crcoc.ca
SUMMARY:Parenting in Ottawa Drop-In / Baby Weigh-In | Carrefour « Être parent â Ottawa »/Prise de poids pour bébés
DESCRIPTION:During Parenting in Ottawa Drop-ins\, parents can weigh their baby and speak in  person with a Public Health Nurse: \n\nParenting\nGet support for infant feeding\nLearn ways to help your child eat healthy and be active\nMake sure your child is on track with their growth and development\nAsk about your child’s social and emotional development\n\nThe program is available to: \n\nExpectant parents\, parents and guardians of children aged birth to four years of age.\n\nNo appointment necessary\, first-come\, first-served. \n— \nDurant les Carrefours « Être parent â Ottawa »\, les parents peuvent peser leur bébé et parler en personne avec une infirmière de santé publique : \n\nVotre rôle de parent\nObtenez du soutien à l’allaitement\nApprenez comment aider votre enfant à bien manger et à être actif\nAssurez-vous de la bonne croissance et du bon développement de votre enfant\nInformez-vous sur le développement social et émotionnel de votre enfant\n\nÀ qui s’adresse le programme ? \n\nAux futurs parents\, parents et tuteurs d’enfants de la naissance à quatre ans.\n\nAucun rendez-vous n’est nécessaire\, c’est premier arrivé\, premier servi. 
URL:https://events-evenements.crcoc.ca/event-evenement/parenting-in-ottawa-drop-in-baby-weigh-in-carrefour-etre-parent-a-ottawa-prise-de-poids-pour-bebes-4-2026-03-26-2026-04-30/2026-04-30/
LOCATION:OCCRC | CRCOC\, 240 Centrum Blvd\, Orléans\, Orléans\, K1E 3J4\, Canada
CATEGORIES:Early ON-ON y va
ATTACH;FMTTYPE=image/png:https://events-evenements.crcoc.ca/wp-content/uploads/2025/09/Screenshot-2025-09-22-115456.png
ORGANIZER;CN="EarlyON | ON y va":MAILTO:EarlyONyva@crcoc.ca
END:VEVENT
BEGIN:VEVENT
DTSTART;TZID=America/Toronto:20260507T133000
DTEND;TZID=America/Toronto:20260507T153000
DTSTAMP:20260422T201440
CREATED:20260224T204204Z
LAST-MODIFIED:20260224T204204Z
UID:25452-1778160600-1778167800@events-evenements.crcoc.ca
SUMMARY:Parenting in Ottawa Drop-In / Baby Weigh-In | Carrefour « Être parent â Ottawa »/Prise de poids pour bébés
DESCRIPTION:During Parenting in Ottawa Drop-ins\, parents can weigh their baby and speak in  person with a Public Health Nurse: \n\nParenting\nGet support for infant feeding\nLearn ways to help your child eat healthy and be active\nMake sure your child is on track with their growth and development\nAsk about your child’s social and emotional development\n\nThe program is available to: \n\nExpectant parents\, parents and guardians of children aged birth to four years of age.\n\nNo appointment necessary\, first-come\, first-served. \n— \nDurant les Carrefours « Être parent â Ottawa »\, les parents peuvent peser leur bébé et parler en personne avec une infirmière de santé publique : \n\nVotre rôle de parent\nObtenez du soutien à l’allaitement\nApprenez comment aider votre enfant à bien manger et à être actif\nAssurez-vous de la bonne croissance et du bon développement de votre enfant\nInformez-vous sur le développement social et émotionnel de votre enfant\n\nÀ qui s’adresse le programme ? \n\nAux futurs parents\, parents et tuteurs d’enfants de la naissance à quatre ans.\n\nAucun rendez-vous n’est nécessaire\, c’est premier arrivé\, premier servi. 
URL:https://events-evenements.crcoc.ca/event-evenement/parenting-in-ottawa-drop-in-baby-weigh-in-carrefour-etre-parent-a-ottawa-prise-de-poids-pour-bebes-4-2026-03-26-2026-04-30/2026-05-07/
LOCATION:OCCRC | CRCOC\, 240 Centrum Blvd\, Orléans\, Orléans\, K1E 3J4\, Canada
CATEGORIES:Early ON-ON y va
ATTACH;FMTTYPE=image/png:https://events-evenements.crcoc.ca/wp-content/uploads/2025/09/Screenshot-2025-09-22-115456.png
ORGANIZER;CN="EarlyON | ON y va":MAILTO:EarlyONyva@crcoc.ca
END:VEVENT
BEGIN:VEVENT
DTSTART;TZID=America/Toronto:20260514T133000
DTEND;TZID=America/Toronto:20260514T153000
DTSTAMP:20260422T201441
CREATED:20260224T204204Z
LAST-MODIFIED:20260224T204204Z
UID:25453-1778765400-1778772600@events-evenements.crcoc.ca
SUMMARY:Parenting in Ottawa Drop-In / Baby Weigh-In | Carrefour « Être parent â Ottawa »/Prise de poids pour bébés
DESCRIPTION:During Parenting in Ottawa Drop-ins\, parents can weigh their baby and speak in  person with a Public Health Nurse: \n\nParenting\nGet support for infant feeding\nLearn ways to help your child eat healthy and be active\nMake sure your child is on track with their growth and development\nAsk about your child’s social and emotional development\n\nThe program is available to: \n\nExpectant parents\, parents and guardians of children aged birth to four years of age.\n\nNo appointment necessary\, first-come\, first-served. \n— \nDurant les Carrefours « Être parent â Ottawa »\, les parents peuvent peser leur bébé et parler en personne avec une infirmière de santé publique : \n\nVotre rôle de parent\nObtenez du soutien à l’allaitement\nApprenez comment aider votre enfant à bien manger et à être actif\nAssurez-vous de la bonne croissance et du bon développement de votre enfant\nInformez-vous sur le développement social et émotionnel de votre enfant\n\nÀ qui s’adresse le programme ? \n\nAux futurs parents\, parents et tuteurs d’enfants de la naissance à quatre ans.\n\nAucun rendez-vous n’est nécessaire\, c’est premier arrivé\, premier servi. 
URL:https://events-evenements.crcoc.ca/event-evenement/parenting-in-ottawa-drop-in-baby-weigh-in-carrefour-etre-parent-a-ottawa-prise-de-poids-pour-bebes-4-2026-03-26-2026-04-30/2026-05-14/
LOCATION:OCCRC | CRCOC\, 240 Centrum Blvd\, Orléans\, Orléans\, K1E 3J4\, Canada
CATEGORIES:Early ON-ON y va
ATTACH;FMTTYPE=image/png:https://events-evenements.crcoc.ca/wp-content/uploads/2025/09/Screenshot-2025-09-22-115456.png
ORGANIZER;CN="EarlyON | ON y va":MAILTO:EarlyONyva@crcoc.ca
END:VEVENT
BEGIN:VEVENT
DTSTART;TZID=America/Toronto:20260521T133000
DTEND;TZID=America/Toronto:20260521T153000
DTSTAMP:20260422T201441
CREATED:20260224T204204Z
LAST-MODIFIED:20260224T204204Z
UID:25454-1779370200-1779377400@events-evenements.crcoc.ca
SUMMARY:Parenting in Ottawa Drop-In / Baby Weigh-In | Carrefour « Être parent â Ottawa »/Prise de poids pour bébés
DESCRIPTION:During Parenting in Ottawa Drop-ins\, parents can weigh their baby and speak in  person with a Public Health Nurse: \n\nParenting\nGet support for infant feeding\nLearn ways to help your child eat healthy and be active\nMake sure your child is on track with their growth and development\nAsk about your child’s social and emotional development\n\nThe program is available to: \n\nExpectant parents\, parents and guardians of children aged birth to four years of age.\n\nNo appointment necessary\, first-come\, first-served. \n— \nDurant les Carrefours « Être parent â Ottawa »\, les parents peuvent peser leur bébé et parler en personne avec une infirmière de santé publique : \n\nVotre rôle de parent\nObtenez du soutien à l’allaitement\nApprenez comment aider votre enfant à bien manger et à être actif\nAssurez-vous de la bonne croissance et du bon développement de votre enfant\nInformez-vous sur le développement social et émotionnel de votre enfant\n\nÀ qui s’adresse le programme ? \n\nAux futurs parents\, parents et tuteurs d’enfants de la naissance à quatre ans.\n\nAucun rendez-vous n’est nécessaire\, c’est premier arrivé\, premier servi. 
URL:https://events-evenements.crcoc.ca/event-evenement/parenting-in-ottawa-drop-in-baby-weigh-in-carrefour-etre-parent-a-ottawa-prise-de-poids-pour-bebes-4-2026-03-26-2026-04-30/2026-05-21/
LOCATION:OCCRC | CRCOC\, 240 Centrum Blvd\, Orléans\, Orléans\, K1E 3J4\, Canada
CATEGORIES:Early ON-ON y va
ATTACH;FMTTYPE=image/png:https://events-evenements.crcoc.ca/wp-content/uploads/2025/09/Screenshot-2025-09-22-115456.png
ORGANIZER;CN="EarlyON | ON y va":MAILTO:EarlyONyva@crcoc.ca
END:VEVENT
BEGIN:VEVENT
DTSTART;TZID=America/Toronto:20260528T133000
DTEND;TZID=America/Toronto:20260528T153000
DTSTAMP:20260422T201441
CREATED:20260224T204204Z
LAST-MODIFIED:20260224T204204Z
UID:25455-1779975000-1779982200@events-evenements.crcoc.ca
SUMMARY:Parenting in Ottawa Drop-In / Baby Weigh-In | Carrefour « Être parent â Ottawa »/Prise de poids pour bébés
DESCRIPTION:During Parenting in Ottawa Drop-ins\, parents can weigh their baby and speak in  person with a Public Health Nurse: \n\nParenting\nGet support for infant feeding\nLearn ways to help your child eat healthy and be active\nMake sure your child is on track with their growth and development\nAsk about your child’s social and emotional development\n\nThe program is available to: \n\nExpectant parents\, parents and guardians of children aged birth to four years of age.\n\nNo appointment necessary\, first-come\, first-served. \n— \nDurant les Carrefours « Être parent â Ottawa »\, les parents peuvent peser leur bébé et parler en personne avec une infirmière de santé publique : \n\nVotre rôle de parent\nObtenez du soutien à l’allaitement\nApprenez comment aider votre enfant à bien manger et à être actif\nAssurez-vous de la bonne croissance et du bon développement de votre enfant\nInformez-vous sur le développement social et émotionnel de votre enfant\n\nÀ qui s’adresse le programme ? \n\nAux futurs parents\, parents et tuteurs d’enfants de la naissance à quatre ans.\n\nAucun rendez-vous n’est nécessaire\, c’est premier arrivé\, premier servi. 
URL:https://events-evenements.crcoc.ca/event-evenement/parenting-in-ottawa-drop-in-baby-weigh-in-carrefour-etre-parent-a-ottawa-prise-de-poids-pour-bebes-4-2026-03-26-2026-04-30/2026-05-28/
LOCATION:OCCRC | CRCOC\, 240 Centrum Blvd\, Orléans\, Orléans\, K1E 3J4\, Canada
CATEGORIES:Early ON-ON y va
ATTACH;FMTTYPE=image/png:https://events-evenements.crcoc.ca/wp-content/uploads/2025/09/Screenshot-2025-09-22-115456.png
ORGANIZER;CN="EarlyON | ON y va":MAILTO:EarlyONyva@crcoc.ca
END:VEVENT
END:VCALENDAR